BEGIN:VCALENDAR
VERSION:2.0
PRODID:-//eventon.com NONSGML v1.0//EN
CALSCALE:GREGORIAN
METHOD:PUBLISH
BEGIN:VEVENT
UID:69e7810a9555d
DTSTAMP:20260421T135210Z
DTSTART:20250728T080000Z
DTEND:20250730T140000Z
LOCATION:Les Ateliers de l’escargot Rue de Coumagne 18\,  5651 Gourdinne
SUMMARY:Stage "Autour du tarot poétique"
DESCRIPTION:Encadré·es par l&rsquo;équipe créative des Ateliers de l&rs
 quo;Escargot\,  vous découvrirez le tarot poétique comme un terrain de je
 u sensible et libre. Nous vous inviterons à explorer les cartes par l&rsqu
 o;écriture\,  la narration et l&rsquo;imaginaire\,  en tissant vos propres
  liens avec les symboles\,  les images et les mots. Au programme :[..]\nhtt
 ps://lesateliersdelescargot.be/events/stage-tarot-poetique/
URL:https://lesateliersdelescargot.be/events/stage-tarot-poetique/
END:VEVENT
END:VCALENDAR