BEGIN:VCALENDAR
VERSION:2.0
PRODID:-//eventon.com NONSGML v1.0//EN
CALSCALE:GREGORIAN
METHOD:PUBLISH
BEGIN:VEVENT
UID:69e7304ac6dc4
DTSTAMP:20260421T080738Z
DTSTART:20230223T090000Z
DTEND:20230224T150000Z
LOCATION:Les Ateliers de lâ€™escargot Rue de Coumagne 18\,  5651 Gourdinne
SUMMARY:Formation Ã  la relecture de manuscrits
DESCRIPTION:Vous avez besoin d&rsquo;outils pour rÃ©Ã©crire vos textes? Vou
 s accompagnez des auteurÂ·rices et vous aimeriez dÃ©velopper cette activitÃ
 ©? FidÃ©line Dujeu vous partagera Â«Â saÂ Â» boÃ®te Ã  outils\,  son propre
  travail de relecture et rÃ©Ã©criture. Nous travaillerons Ã  partir des man
 uscrits en cours\,  des textes des unÂ·es et des autres\,  nous nous[..]\nh
 ttps://lesateliersdelescargot.be/events/formation-a-la-relecture-de-manuscr
 its/
URL:https://lesateliersdelescargot.be/events/formation-a-la-relecture-de-manuscrits/
END:VEVENT
END:VCALENDAR