BEGIN:VCALENDAR
VERSION:2.0
PRODID:-//eventon.com NONSGML v1.0//EN
CALSCALE:GREGORIAN
METHOD:PUBLISH
BEGIN:VEVENT
UID:69e781c5ee0bd
DTSTAMP:20260421T135517Z
DTSTART:20250422T193300Z
DTEND:20250422T193300Z
LOCATION:Les Ateliers de l’escargot Rue de Coumagne 18\,  5651 Gourdinne
SUMMARY:Formation autour de la nouvelle
DESCRIPTION:Deux jours pour explorer l&rsquo;écriture d&rsquo;une nouvelle
 . De la narration à la brièveté\,  nous explorerons les codes\,  nous le
 s bousculerons et nous nous lancerons dans l&rsquo;écriture. Fidéline Duj
 eu vous accompagnera\,  vous aidera à nourrir vos imaginaires et à cadrer
  vos idées. Deux jours à consacrer à la fiction\,  dans un[..]\nhttps://
 lesateliersdelescargot.be/events/formation-autour-de-la-nouvelle/
URL:https://lesateliersdelescargot.be/events/formation-autour-de-la-nouvelle/
END:VEVENT
END:VCALENDAR